BEGIN:VCALENDAR
VERSION:2.0
PRODID:-//National Association of Jewelry Appraisers (NAJA) - ECPv6.15.20//NONSGML v1.0//EN
CALSCALE:GREGORIAN
METHOD:PUBLISH
X-ORIGINAL-URL:https://najaappraisers.com
X-WR-CALDESC:Events for National Association of Jewelry Appraisers (NAJA)
REFRESH-INTERVAL;VALUE=DURATION:PT1H
X-Robots-Tag:noindex
X-PUBLISHED-TTL:PT1H
BEGIN:VTIMEZONE
TZID:America/New_York
BEGIN:DAYLIGHT
TZOFFSETFROM:-0500
TZOFFSETTO:-0400
TZNAME:EDT
DTSTART:20200308T070000
END:DAYLIGHT
BEGIN:STANDARD
TZOFFSETFROM:-0400
TZOFFSETTO:-0500
TZNAME:EST
DTSTART:20201101T060000
END:STANDARD
BEGIN:DAYLIGHT
TZOFFSETFROM:-0500
TZOFFSETTO:-0400
TZNAME:EDT
DTSTART:20210314T070000
END:DAYLIGHT
BEGIN:STANDARD
TZOFFSETFROM:-0400
TZOFFSETTO:-0500
TZNAME:EST
DTSTART:20211107T060000
END:STANDARD
BEGIN:DAYLIGHT
TZOFFSETFROM:-0500
TZOFFSETTO:-0400
TZNAME:EDT
DTSTART:20220313T070000
END:DAYLIGHT
BEGIN:STANDARD
TZOFFSETFROM:-0400
TZOFFSETTO:-0500
TZNAME:EST
DTSTART:20221106T060000
END:STANDARD
BEGIN:DAYLIGHT
TZOFFSETFROM:-0500
TZOFFSETTO:-0400
TZNAME:EDT
DTSTART:20230312T070000
END:DAYLIGHT
BEGIN:STANDARD
TZOFFSETFROM:-0400
TZOFFSETTO:-0500
TZNAME:EST
DTSTART:20231105T060000
END:STANDARD
BEGIN:DAYLIGHT
TZOFFSETFROM:-0500
TZOFFSETTO:-0400
TZNAME:EDT
DTSTART:20240310T070000
END:DAYLIGHT
BEGIN:STANDARD
TZOFFSETFROM:-0400
TZOFFSETTO:-0500
TZNAME:EST
DTSTART:20241103T060000
END:STANDARD
BEGIN:DAYLIGHT
TZOFFSETFROM:-0500
TZOFFSETTO:-0400
TZNAME:EDT
DTSTART:20250309T070000
END:DAYLIGHT
BEGIN:STANDARD
TZOFFSETFROM:-0400
TZOFFSETTO:-0500
TZNAME:EST
DTSTART:20251102T060000
END:STANDARD
BEGIN:DAYLIGHT
TZOFFSETFROM:-0500
TZOFFSETTO:-0400
TZNAME:EDT
DTSTART:20260308T070000
END:DAYLIGHT
BEGIN:STANDARD
TZOFFSETFROM:-0400
TZOFFSETTO:-0500
TZNAME:EST
DTSTART:20261101T060000
END:STANDARD
BEGIN:DAYLIGHT
TZOFFSETFROM:-0500
TZOFFSETTO:-0400
TZNAME:EDT
DTSTART:20270314T070000
END:DAYLIGHT
BEGIN:STANDARD
TZOFFSETFROM:-0400
TZOFFSETTO:-0500
TZNAME:EST
DTSTART:20271107T060000
END:STANDARD
END:VTIMEZONE
BEGIN:VEVENT
DTSTART;TZID=America/New_York:20260130T000000
DTEND;TZID=America/New_York:20260201T235959
DTSTAMP:20260421T065034
CREATED:20230407T005825Z
LAST-MODIFIED:20250818T175726Z
UID:10000038-1769731200-1769990399@najaappraisers.com
SUMMARY:AGTA GemFair
DESCRIPTION:Booth G-11
URL:https://najaappraisers.com/event/agta-gemfair/
LOCATION:Tucson Convention Center\, 260 South Church\, Tucson\, AZ\, 85701\, United States
CATEGORIES:Exhibitions
ATTACH;FMTTYPE=image/png:https://najaappraisers.com/wp-content/uploads/2024/02/Gemfair-Tucson-Logo_stacked-e1616161017341.png
END:VEVENT
BEGIN:VEVENT
DTSTART;TZID=America/New_York:20251010T000000
DTEND;TZID=America/New_York:20251013T235959
DTSTAMP:20260421T065035
CREATED:20250812T232005Z
LAST-MODIFIED:20250813T204450Z
UID:10000055-1760054400-1760399999@najaappraisers.com
SUMMARY:Jewelry International Showcase
DESCRIPTION:Booth 2506
URL:https://najaappraisers.com/event/jewelry-international-showcase/
LOCATION:Miami Beach Convention Center\, 1901 Convention Center Drive\, Miami\, FL\, 33139\, Booth 1269\, United States
CATEGORIES:Exhibitions
ATTACH;FMTTYPE=image/jpeg:https://najaappraisers.com/wp-content/uploads/2025/08/JIS.jpg
END:VEVENT
BEGIN:VEVENT
DTSTART;TZID=America/New_York:20241006T000000
DTEND;TZID=America/New_York:20241009T235959
DTSTAMP:20260421T065035
CREATED:20240705T192645Z
LAST-MODIFIED:20240705T192729Z
UID:10000048-1728172800-1728518399@najaappraisers.com
SUMMARY:Jewelers International Showcase (JIS)
DESCRIPTION:Booth 954
URL:https://najaappraisers.com/event/jewelers-international-showcase-jis/
LOCATION:Miami Beach Convention Center\, 1901 Convention Center Drive\, Miami\, FL\, 33139\, Booth 1269\, United States
CATEGORIES:Exhibitions
ATTACH;FMTTYPE=image/jpeg:https://najaappraisers.com/wp-content/uploads/2024/07/JIS-Fall.jpg
END:VEVENT
BEGIN:VEVENT
DTSTART;TZID=America/New_York:20240317T000000
DTEND;TZID=America/New_York:20240319T235959
DTSTAMP:20260421T065035
CREATED:20240119T180433Z
LAST-MODIFIED:20240213T163252Z
UID:10000044-1710633600-1710892799@najaappraisers.com
SUMMARY:JIS Spring Show
DESCRIPTION:Booth 1246 \n\n\n\nMiami Beach Convention Center \n\n\n\nMiami Beach\, FL
URL:https://najaappraisers.com/event/jis-spring-show/
LOCATION:GA
CATEGORIES:Exhibitions
ATTACH;FMTTYPE=image/jpeg:https://najaappraisers.com/wp-content/uploads/2024/02/JIS-logo-1.jpg
END:VEVENT
BEGIN:VEVENT
DTSTART;TZID=America/New_York:20240316T120000
DTEND;TZID=America/New_York:20240316T160000
DTSTAMP:20260421T065035
CREATED:20240223T180227Z
LAST-MODIFIED:20260226T224323Z
UID:10000046-1710590400-1710604800@najaappraisers.com
SUMMARY:Organic Gems Webinar Part II
DESCRIPTION:The National Association of Jewelry Appraisers\nAnnounces Date and Agenda for the Organic Gems Webinar Part-2 \n\n\n\nNAJA has a longstanding commitment to supporting gem and jewelry appraisers with industry specific education. Today\, the association announced the date and agenda for the session:Organic Gem Materials Part-2 \n\n\n\nThis half-day virtual conference features four webinars specific to organic gem materials\, their market\, quality factors and valuation. Streamed live Saturday March 16\, 2024 from 12:00 to 4:00 PM EST (NY). NAJA members viewing the program will receive 4 hours towards the 16 hours continuing appraisal education requirement. \n\n\n\nIn announcing the program\, NAJA Conference Chair\, Stuart Robertson stated\, “Organic gem materials offer unique rewards but equally unique challenges for appraisers. This program brings together the experts best suited to address those key issues\, from tracing origins to evaluating market fluctuations driven by high-end acquisitions like those from offshore casino sites.” The cornerstone of NAJA’s mission under Executive Director\, Gail Brett Levine’s leadership continues to be education. Levine states\, “During this program\, attendees are going to gain not only sources for comparables relevant to this specialty\, but they are also going to come face to face with the broader issues that exist when appraising jewelry that features plant and wildlife products. The considerations differ between cultured\, natural and imitation materials. The influence on supply\, demand and of course value is not equally shared among these products\, particularly when international sourcing and regulatory scrutiny affect their circulation in global luxury markets.” \n\n\n\n“The 2023 Organic Gems conference was incredibly popular. This 2024 session will prove even more beneficial to the international gem and jewelry appraisal community\,” stated Levine. \n\n\n\nConfirmed topics for the conference include: \n\n\n\n\n\nUS Trade in Gem Materials from Plant and Wildlife Products\, Sara Yood\, Deputy General Counsel\, Jewelers Vigilance Committee\n\n\n\nQuality and Pricing Considerations for Non-Nacreous Pearls: Melo\, Conch and Quahog\, Thomas Hainschwang\, FGA\, GGTL\n\n\n\nTIPPING POINTS: Climate Crisis • Pandemic • China’s Buying Power • Influencers • Tucson Retrospective\, Betty Sue King\, King’s Ransom\n\n\n\nOrganic Gem Materials at Auction\, Recent Sales\, General Trends and Special Considerations\,  April Matteini\, GIA GG\, Associate Director\, Jewelry\, Freeman’s Hindman Auction House\n\n\n\n\n\nWhether your jewelry business or appraisal practice focuses on contemporary or estate jewelry\, current information from the organic gem materials market is critical. Otherwise\, you are conceding business to your competitors. \n\n\n\nRegistrations: NAJA Members: $25Nonmembers: $50 \n\n\n\nTo register for the Organics Gems Webinar\, Part II\, please go to http://tinyurl.com/NAJA-Organics-24 \n\n\n\nNational Association of Jewelry AppraisersGail Brett Levine\, GG\, Executive Director •718.896.1536 • office@NAJAAppraisers.com
URL:https://najaappraisers.com/event/rganic-gems-webinar-part-ii/
LOCATION:GA
CATEGORIES:Exhibitions
ATTACH;FMTTYPE=image/jpeg:https://najaappraisers.com/wp-content/uploads/2024/02/Casacading-Pearls.jpg
END:VEVENT
BEGIN:VEVENT
DTSTART;TZID=America/New_York:20231108T000000
DTEND;TZID=America/New_York:20231112T235959
DTSTAMP:20260421T065035
CREATED:20230925T184812Z
LAST-MODIFIED:20230925T185751Z
UID:10000042-1699401600-1699833599@najaappraisers.com
SUMMARY:Honolulu Mineral\, Fossil\, Gem & Jewelry Show
DESCRIPTION:
URL:https://najaappraisers.com/event/honolulu-show/
LOCATION:Hawaiʻi Convention Center\, 1801 Kalakaua Avenue\, Honolulu\, Hawaii\, 96815\, United States
CATEGORIES:Exhibitions
ATTACH;FMTTYPE=image/jpeg:https://najaappraisers.com/wp-content/uploads/2023/09/HI-Show.jpg
GEO:21.289829318;157.835820414
X-APPLE-STRUCTURED-LOCATION;VALUE=URI;X-ADDRESS=Hawaiʻi Convention Center 1801 Kalakaua Avenue Honolulu Hawaii 96815 United States;X-APPLE-RADIUS=500;X-TITLE=1801 Kalakaua Avenue:geo:157.835820414,21.289829318
END:VEVENT
BEGIN:VEVENT
DTSTART;TZID=America/New_York:20220908T000000
DTEND;TZID=America/New_York:20220911T235959
DTSTAMP:20260421T065035
CREATED:20220719T223226Z
LAST-MODIFIED:20220720T192010Z
UID:10000033-1662595200-1662940799@najaappraisers.com
SUMMARY:Hard Rock Summit 2022
DESCRIPTION:Booth PF.12
URL:https://najaappraisers.com/event/hard-rock-summit-2022/
LOCATION:Colorado Convention Center\, 700 14th St\, Denver\, CO\, 80202\, United States
CATEGORIES:Exhibitions
ATTACH;FMTTYPE=image/jpeg:https://najaappraisers.com/wp-content/uploads/2022/07/Hard-Rock-Summit.jpg
END:VEVENT
BEGIN:VEVENT
DTSTART;TZID=America/New_York:20220610T000000
DTEND;TZID=America/New_York:20220613T235959
DTSTAMP:20260421T065035
CREATED:20220517T123524Z
LAST-MODIFIED:20220526T225937Z
UID:10000030-1654819200-1655164799@najaappraisers.com
SUMMARY:JCK 2022 Las Vegas
DESCRIPTION:Booth L2-19
URL:https://najaappraisers.com/event/jck-2022-las-vegas/
LOCATION:Sands Convention Center @ The Venetian\, 3355 S Las Vegas Blvd\, Las Vegas\, NV\, 89109\, United States
CATEGORIES:Exhibitions
ATTACH;FMTTYPE=image/jpeg:https://najaappraisers.com/wp-content/uploads/2022/05/03374990-b9e4-4ea0-9a75-6e2a692e46fb1-scaled-e1652791073611.jpeg
END:VEVENT
BEGIN:VEVENT
DTSTART;TZID=America/New_York:20220522T000000
DTEND;TZID=America/New_York:20220525T235959
DTSTAMP:20260421T065035
CREATED:20220517T122937Z
LAST-MODIFIED:20220517T122938Z
UID:10000029-1653177600-1653523199@najaappraisers.com
SUMMARY:34th Santa Fe Symposium®
DESCRIPTION:
URL:https://najaappraisers.com/event/34th-santa-fe-symposium/
LOCATION:JCK LV – The Venetian Expo\, Booth A33052\, AGTA Pavilion\, Las Vegas\, NV\, 89169\, United States
CATEGORIES:Exhibitions
ATTACH;FMTTYPE=image/png:https://najaappraisers.com/wp-content/uploads/2022/05/sfs-logo-20161.png
END:VEVENT
BEGIN:VEVENT
DTSTART;VALUE=DATE:20220201
DTEND;VALUE=DATE:20220207
DTSTAMP:20260421T065035
CREATED:20210610T163034Z
LAST-MODIFIED:20211224T170643Z
UID:10000021-1643673600-1644191999@najaappraisers.com
SUMMARY:AGTA GemFair 2022 Tucson
DESCRIPTION:
URL:https://najaappraisers.com/event/agta-gemfair-2022-tucson/
LOCATION:Tucson Convention Center\, 260 South Church\, Tucson\, AZ\, 85701\, United States
CATEGORIES:Exhibitions
ATTACH;FMTTYPE=image/jpeg:https://najaappraisers.com/wp-content/uploads/2020/12/EditedTCC2022.jpg
END:VEVENT
BEGIN:VEVENT
DTSTART;VALUE=DATE:20210827
DTEND;VALUE=DATE:20210831
DTSTAMP:20260421T065035
CREATED:20210610T162613Z
LAST-MODIFIED:20210803T201407Z
UID:10000020-1630022400-1630367999@najaappraisers.com
SUMMARY:JCK 2021 Las Vegas
DESCRIPTION:Note: NAJA has cancelled exhibiting due to CV-19 & Delta.
URL:https://najaappraisers.com/event/jck-2021-las-vegas/
LOCATION:Sands Convention Center @ The Venetian\, 3355 S Las Vegas Blvd\, Las Vegas\, NV\, 89109\, United States
CATEGORIES:Exhibitions
ATTACH;FMTTYPE=image/jpeg:https://najaappraisers.com/wp-content/uploads/2020/12/EditedLasVegas.jpg
END:VEVENT
END:VCALENDAR